BEGIN:VCALENDAR
VERSION:2.0
PRODID:-//ChamberMaster//Event Calendar 2.0//EN
METHOD:PUBLISH
X-PUBLISHED-TTL:P3D
REFRESH-INTERVAL:P3D
CALSCALE:GREGORIAN
BEGIN:VEVENT
DTSTART:20211002T170000Z
DTEND:20211002T230000Z
X-MICROSOFT-CDO-ALLDAYEVENT:FALSE
SUMMARY:“The Silent Guitar” is a collection of paintings by Sharif Carter. October 2-31\, 2021
DESCRIPTION:"The Silent Guitar" is a collection of paintings by Sharif Carter. October 2-31\, 2021\n\n\n\n \n\n\n\nAbout the Show\n\n\n\n"The Silent Guitar" is a collection of paintings featuring a flamenco dancer wanted by law set in the desert heat of Old World Spain with the sky set ablaze with brilliant oranges\, yellows\, and reds. Her flowing red dress embodies her sass and sex appeal and her identity is concealed by a low-hanging Andalusian hat. She wields guitars with sharp edges as her weaponry\, sometimes accompanied with spears for added force. The loose brushstrokes and abstract guitars represent Sharif's love of music and his defiance to follow traditional rules both in life and his painting technique.\n\nAt the Borrego Art Institute in Borrego Springs Gallery.
X-ALT-DESC;FMTTYPE=text/html:<div>\n<div>\n<div><span style="font-size:16px"><strong>&ldquo\;The Silent Guitar&rdquo\; is a collection of paintings by Sharif Carter. October 2-31\, 2021</strong></span></div>\n</div>\n\n<div>\n<div>&nbsp\;</div>\n</div>\n\n<div>\n<div><span style="font-size:14px"><strong>About the Show</strong></span></div>\n</div>\n\n<div>\n<div>&ldquo\;The Silent Guitar&rdquo\; is a collection of paintings featuring a flamenco dancer wanted by law set in the desert heat of Old World Spain with the sky set ablaze with brilliant oranges\, yellows\, and reds. Her flowing red dress embodies her sass and sex appeal and her identity is concealed by a low-hanging Andalusian hat. She wields guitars with sharp edges as her weaponry\, sometimes accompanied with spears for added force. The loose brushstrokes and abstract guitars represent Sharif&rsquo\;s love of music and his defiance to follow traditional rules both in life and his painting technique.<br />\nAt the Borrego Art Institute in Borrego Springs Gallery.</div>\n</div>\n</div>\n
LOCATION:Borrego Art Institute 665 Palm Canyon Drive (at Christmas Circle) Borrego Springs\, CA 92004
UID:e.3533.145
SEQUENCE:3
DTSTAMP:20260422T143309Z
URL:https://business.borregospringschamber.com/events/details/the-silent-guitar-is-a-collection-of-paintings-by-sharif-carter-october-2-31-2021-145
END:VEVENT

END:VCALENDAR
