BEGIN:VCALENDAR
VERSION:2.0
PRODID:-//ChamberMaster//Event Calendar 2.0//EN
METHOD:PUBLISH
X-PUBLISHED-TTL:P3D
REFRESH-INTERVAL:P3D
CALSCALE:GREGORIAN
BEGIN:VEVENT
DTSTART:20211002T230000Z
DTEND:20211003T020000Z
X-MICROSOFT-CDO-ALLDAYEVENT:FALSE
SUMMARY:The Art of Flora and Fauna Opening Reception
DESCRIPTION:Opening Reception on Saturday\, October 2\, from 4 to 7 pm. Join us for a fun afternoon and mark the start of the new season with this inspiring show: The Art of Flora and Fauna\, artistic work in a variety of mediums celebrating the wonderful plants and animals of our world.\n\nIn combination with a special appearance by Sharif Carter. Sharif paints most of his work live in places where the atmosphere is electric and music fills the air. In his words\, "the ultimate art studio." A collection of paintings by Sharif Carter featuring a flamenco dancer is showing from October 2-31. The exhibition is called: "The Silent Gitar."\n\nDue to Covid precaution\, we won't serve hors d'oeuvres. However\, this Free event is open to the public.
X-ALT-DESC;FMTTYPE=text/html:<div><span style="font-size:18px"><strong>Opening Reception on Saturday\, October 2\, from 4 to 7 pm.</strong></span> Join us for a fun afternoon and mark the start of the new season with this inspiring show: <strong>The Art of Flora and Fauna</strong>\, artistic work in a variety of mediums celebrating the wonderful plants and animals of our world.</div>\n\n<div>In combination with a special appearance by <strong>Sharif Carter.</strong> Sharif paints most of his work live in places where the atmosphere is electric and music fills the air. In his words\, &quot\;the ultimate art studio.&quot\; A collection of paintings by Sharif Carter featuring a flamenco dancer is showing from October 2-31. <strong>The exhibition is called: &quot\;The Silent Gitar.&quot\;</strong></div>\n\n<div>Due to Covid precaution\, we won&#39\;t serve hors d&#39\;oeuvres. However\, this Free event is open to the public.</div>\n
LOCATION:Borrego Art Institute 665 Palm Canyon Drive (at Christmas Circle) Borrego Springs\, CA 92004
UID:e.3533.143
SEQUENCE:3
DTSTAMP:20260422T143118Z
URL:https://business.borregospringschamber.com/events/details/the-art-of-flora-and-fauna-opening-reception-143
END:VEVENT

END:VCALENDAR
