BEGIN:VCALENDAR
VERSION:2.0
PRODID:-//ChamberMaster//Event Calendar 2.0//EN
METHOD:PUBLISH
X-PUBLISHED-TTL:P3D
REFRESH-INTERVAL:P3D
CALSCALE:GREGORIAN
BEGIN:VEVENT
DTSTART:20220317T230000Z
DTEND:20220318T010000Z
X-MICROSOFT-CDO-ALLDAYEVENT:FALSE
SUMMARY:St. Patrick's Day Sundowner
DESCRIPTION:Live Music\, food\, raffle and more.  Must RSVP to attend.  Non member guests are $10.00 per person.
X-ALT-DESC;FMTTYPE=text/html:Live Music\, food\, raffle and more.&nbsp\; Must RSVP to attend.&nbsp\; Non member guests are $10.00 per person.&nbsp\;
LOCATION:Arches Restaurant - Borrego Springs Resort & Spa
UID:e.3533.226
SEQUENCE:3
DTSTAMP:20260424T043228Z
URL:https://business.borregospringschamber.com/events/details/st-patrick-s-day-sundowner-226
END:VEVENT

END:VCALENDAR
