BEGIN:VCALENDAR
VERSION:2.0
PRODID:-//ChamberMaster//Event Calendar 2.0//EN
METHOD:PUBLISH
X-PUBLISHED-TTL:P3D
REFRESH-INTERVAL:P3D
CALSCALE:GREGORIAN
BEGIN:VEVENT
DTSTART:20220422T150000Z
DTEND:20220425T000000Z
X-MICROSOFT-CDO-ALLDAYEVENT:FALSE
SUMMARY:Plein Air Painting Palo Verde with Jessica Schiffman
DESCRIPTION:This 2 or 3-day class. All skill levels are welcome. The Palo Verde tree is surely "Borrego's tree"\, with its distinctive green bark\, elegant branches\, and a canopy of yellow flowers that splash across the desert sky and carpet the ground in gold during April of each year. What a perfect time to take a Plein Air class while the town turns yellow! Plein Air painting with oil with talented Jessica Schiffman! Jessica will take the students to a beautiful location in Borrego Springs and paint two or more landscape paintings in this 2 or 3-day class. (you can sign up for a day day class or extend it to three day's) Teaching through demonstrations and explaining the steps of the system she uses. Emphasis is on composition\, shadow patterns\, contrast\, color intensity\, color temperature\, painting alla prima (wet into wet)\, and perspective\, creating the illusion of depth. There will be plenty of Individual instruction and some group critiques in an informal and supportive atmosphere. Website: jessicaschiffman.com Facebook: https://www.facebook.com/jessica.schiffman Instagram: https://www.instagram.com/jessicaschiffmanan
X-ALT-DESC;FMTTYPE=text/html:This 2 or 3-day class. All skill levels are welcome. The Palo Verde tree is surely &ldquo\;Borrego&rsquo\;s tree&rdquo\;\, with its distinctive green bark\, elegant branches\, and a canopy of yellow flowers that splash across the desert sky and carpet the ground in gold during April of each year. What a perfect time to take a Plein Air class while the town turns yellow! Plein Air painting with oil with talented Jessica Schiffman! Jessica will take the students to a beautiful location in Borrego Springs and paint two or more landscape paintings in this 2 or 3-day class. (you can sign up for a day day class or extend it to three day&#39\;s) Teaching through demonstrations and explaining the steps of the system she uses. Emphasis is on composition\, shadow patterns\, contrast\, color intensity\, color temperature\, painting alla prima (wet into wet)\, and perspective\, creating the illusion of depth. There will be plenty of Individual instruction and some group critiques in an informal and supportive atmosphere. Website: jessicaschiffman.com Facebook: https://www.facebook.com/jessica.schiffman Instagram: https://www.instagram.com/jessicaschiffmanan
LOCATION:Borrego Art Institute 665 Palm Canyon Drive\, at Christmas Circle Borrego Springs\, CA 92004
UID:e.3533.295
SEQUENCE:3
DTSTAMP:20260424T044148Z
URL:https://business.borregospringschamber.com/events/details/plein-air-painting-palo-verde-with-jessica-schiffman-295
END:VEVENT

END:VCALENDAR
