BEGIN:VCALENDAR
VERSION:2.0
PRODID:-//ChamberMaster//Event Calendar 2.0//EN
METHOD:PUBLISH
X-PUBLISHED-TTL:P3D
REFRESH-INTERVAL:P3D
CALSCALE:GREGORIAN
BEGIN:VEVENT
DTSTART:20220416T160000Z
DTEND:20220416T230000Z
X-MICROSOFT-CDO-ALLDAYEVENT:FALSE
SUMMARY:Papermaking Explorations with Holly Hutton
DESCRIPTION:This exploratory papermaking workshop introduces participants to the world of papermaking. Students will learn how to turn plant fiber into luscious handmade paper sheets\, focusing on cat tails\, banana leaves\, palm fiber\, cotton\, and agave. Students will learn how to harvest\, prepare\, and form basic sheets of paper with a mould and deckle\, along with exploring a variety of ways to manipulate the pulp. Using a combination of hands-on and formal presentation students will learn about the endless possibilities of using papermaking techniques for bookmaking\, mixed media\, printmaking\, and drawing\, as well as its own art form. This fun 1-day class is from 9 am till 4 pm\, with a one hour lunch break. Students need to bring a large plastic bag\, so they can take home the paper by the end of the day. DEADLINE TO SIGN UP: APRIL 14\, 2022
X-ALT-DESC;FMTTYPE=text/html:This exploratory papermaking workshop introduces participants to the world of papermaking. Students will learn how to turn plant fiber into luscious handmade paper sheets\, focusing on cat tails\, banana leaves\, palm fiber\, cotton\, and agave. Students will learn how to harvest\, prepare\, and form basic sheets of paper with a mould and deckle\, along with exploring a variety of ways to manipulate the pulp. Using a combination of hands-on and formal presentation students will learn about the endless possibilities of using papermaking techniques for bookmaking\, mixed media\, printmaking\, and drawing\, as well as its own art form. This fun 1-day class is from 9 am till 4 pm\, with a one hour lunch break. Students need to bring a large plastic bag\, so they can take home the paper by the end of the day. DEADLINE TO SIGN UP: APRIL 14\, 2022
LOCATION:Borrego Art Institute 665 Palm Canyon Drive\, at Christmas Circle Borrego Springs\, CA 92004
UID:e.3533.294
SEQUENCE:3
DTSTAMP:20260424T025023Z
URL:https://business.borregospringschamber.com/events/details/papermaking-explorations-with-holly-hutton-294
END:VEVENT

END:VCALENDAR
