BEGIN:VCALENDAR
VERSION:2.0
PRODID:-//ChamberMaster//Event Calendar 2.0//EN
METHOD:PUBLISH
X-PUBLISHED-TTL:P3D
REFRESH-INTERVAL:P3D
CALSCALE:GREGORIAN
BEGIN:VEVENT
DTSTART:20220413T160000Z
DTEND:20220413T233000Z
X-MICROSOFT-CDO-ALLDAYEVENT:FALSE
SUMMARY:Painting for Absolute Beginners with Jeni Bate
DESCRIPTION:This is an intensive 1-day class for anyone who would like to learn the basics of how to paint but doesn't have the schedule to do a 10-part weekly class\, or for those who have painted years ago and could use a refresher. Jeni teaches the class in watercolor\, but the first three parts translate to all colored mediums (acrylic\, oil\, pastel\, and to a certain extent\, colored pencil). All materials are provided. Wear clothing that you won't worry about if you splash paint on it\, though watercolor is not an especially messy medium. You will work hard and you will learn a lot! You will go home with a number of reference exercises and online access to class materials\, plus follow-on exercises. This class is great for ages 16 and up. Visit Jeni's website at: www.skyscapesforthesoul.com
X-ALT-DESC;FMTTYPE=text/html:This is an intensive 1-day class for anyone who would like to learn the basics of how to paint but doesn&rsquo\;t have the schedule to do a 10-part weekly class\, or for those who have painted years ago and could use a refresher. Jeni teaches the class in watercolor\, but the first three parts translate to all colored mediums (acrylic\, oil\, pastel\, and to a certain extent\, colored pencil). All materials are provided. Wear clothing that you won&rsquo\;t worry about if you splash paint on it\, though watercolor is not an especially messy medium. You will work hard and you will learn a lot! You will go home with a number of reference exercises and online access to class materials\, plus follow-on exercises. This class is great for ages 16 and up. Visit Jeni&#39\;s website at: www.skyscapesforthesoul.com
LOCATION:Borrego Art Institute 665 Palm Canyon Drive\, at Christmas Circle Borrego Springs\, CA 92004
UID:e.3533.292
SEQUENCE:3
DTSTAMP:20260424T025150Z
URL:https://business.borregospringschamber.com/events/details/painting-for-absolute-beginners-with-jeni-bate-292
END:VEVENT

END:VCALENDAR
