BEGIN:VCALENDAR
VERSION:2.0
PRODID:-//ChamberMaster//Event Calendar 2.0//EN
METHOD:PUBLISH
X-PUBLISHED-TTL:P3D
REFRESH-INTERVAL:P3D
CALSCALE:GREGORIAN
BEGIN:VEVENT
DTSTART:20211107T000000Z
DTEND:20211107T020000Z
X-MICROSOFT-CDO-ALLDAYEVENT:FALSE
SUMMARY:Opening Reception for Expressions in the Abstract
DESCRIPTION:Opening reception on Saturday\, November 6\, from 5-7 pm. Free and open to the public.\n\nNEXT EXHIBITION\n\nExpressions in the Abstract\n\nNovember 6 28\, 2021\n\nWith Stuart Bailey\, Barbara Nickerson\, Pamela Nigro and John Richen\n\nReturning to BAI for the fifth time\, this popular exhibit features abstract art by four outstanding artists showing wall art and sculptures.
X-ALT-DESC;FMTTYPE=text/html:<div>Opening reception on Saturday\, November 6\, from 5-7 pm. Free and open to the public.</div>\n\n<div>NEXT EXHIBITION<br />\nExpressions in the Abstract<br />\nNovember 6&ndash\;28\, 2021</div>\n\n<div>With Stuart Bailey\, Barbara Nickerson\, Pamela Nigro and John Richen</div>\n\n<div>Returning to BAI for the fifth time\, this popular exhibit features abstract art by four outstanding artists showing wall art and sculptures.</div>\n
LOCATION:Borrego Art Institute. 665 Palm Canyon Drive Borrego Springs\, CA 92004
UID:e.3533.152
SEQUENCE:3
DTSTAMP:20260422T124054Z
URL:https://business.borregospringschamber.com/events/details/opening-reception-for-expressions-in-the-abstract-152
END:VEVENT

END:VCALENDAR
