BEGIN:VCALENDAR
VERSION:2.0
PRODID:-//ChamberMaster//Event Calendar 2.0//EN
METHOD:PUBLISH
X-PUBLISHED-TTL:P3D
REFRESH-INTERVAL:P3D
CALSCALE:GREGORIAN
BEGIN:VEVENT
DTSTART:20200501T150000Z
DTEND:20200501T190000Z
X-MICROSOFT-CDO-ALLDAYEVENT:FALSE
SUMMARY:NO Farmers Market at Christmas Circle
DESCRIPTION:Farmers Market
X-ALT-DESC;FMTTYPE=text/html:&nbsp\;Farmers Market
LOCATION:Christmas Circle - downtown Borrego Springs
UID:e.3533.31
SEQUENCE:3
DTSTAMP:20260425T192644Z
URL:https://business.borregospringschamber.com/events/details/no-farmers-market-at-christmas-circle-31
END:VEVENT

END:VCALENDAR
