BEGIN:VCALENDAR
VERSION:2.0
PRODID:-//ChamberMaster//Event Calendar 2.0//EN
METHOD:PUBLISH
X-PUBLISHED-TTL:P3D
REFRESH-INTERVAL:P3D
CALSCALE:GREGORIAN
BEGIN:VEVENT
DTSTART:20200424T150000Z
DTEND:20200424T190000Z
X-MICROSOFT-CDO-ALLDAYEVENT:FALSE
SUMMARY:NO Farmers Market
DESCRIPTION:Farmers Market
X-ALT-DESC;FMTTYPE=text/html:Farmers Market
LOCATION:Christmas Circle - downtown Borrego Springs
UID:e.3533.30
SEQUENCE:3
DTSTAMP:20260425T192409Z
URL:https://business.borregospringschamber.com/events/details/no-farmers-market-04-24-2020-30
END:VEVENT

END:VCALENDAR
