BEGIN:VCALENDAR
VERSION:2.0
PRODID:-//ChamberMaster//Event Calendar 2.0//EN
METHOD:PUBLISH
X-PUBLISHED-TTL:P3D
REFRESH-INTERVAL:P3D
CALSCALE:GREGORIAN
BEGIN:VEVENT
DTSTART:20220414T170000Z
DTEND:20220414T220000Z
X-MICROSOFT-CDO-ALLDAYEVENT:FALSE
SUMMARY:Nigerian Folk Art Workshop with Monica Rue
DESCRIPTION:All materials are included in the price of the workshop. Monica Rue is an artist that reveres fibers and fabrics. Her fantastic use of color and pattern are prominent key elements that makes her art undeniably unique. Her teaching skills and knowledge of fibers and textiles will enhance your creativity process\; maybe tapping into something waiting to be discovered. In this workshop\, Monica will teach you how to create either a Mkeka (woven mat) or a Bakuli (bowl). Students will design their own unique art piece using traditional and non-traditional techniques. You will be using rope\, fabric\, yarn\, beads and other materials to make your one-of-a-kind mat or bowl that you will be able to take home at the end of the workshop. Monica's Website: http://www.monicaruedesigns.com/ Instagram: @monicaruedesigns Email: monicaruedesigns@gmail.com
X-ALT-DESC;FMTTYPE=text/html:All materials are included in the price of the workshop. Monica Rue is an artist that reveres fibers and fabrics. Her fantastic use of color and pattern are prominent key elements that makes her art undeniably unique. Her teaching skills and knowledge of fibers and textiles will enhance your creativity process\; maybe tapping into something waiting to be discovered. In this workshop\, Monica will teach you how to create either a Mkeka (woven mat) or a Bakuli (bowl). Students will design their own unique art piece using traditional and non-traditional techniques. You will be using rope\, fabric\, yarn\, beads and other materials to make your one-of-a-kind mat or bowl that you will be able to take home at the end of the workshop. Monica&#39\;s Website: http://www.monicaruedesigns.com/ Instagram: @monicaruedesigns Email: monicaruedesigns@gmail.com
LOCATION:Borrego Art Institute 665 Palm Canyon Drive\, at Christmas Circle Borrego Springs\, CA 92004
UID:e.3533.293
SEQUENCE:3
DTSTAMP:20260424T025415Z
URL:https://business.borregospringschamber.com/events/details/nigerian-folk-art-workshop-with-monica-rue-293
END:VEVENT

END:VCALENDAR
