BEGIN:VCALENDAR
VERSION:2.0
PRODID:-//ChamberMaster//Event Calendar 2.0//EN
METHOD:PUBLISH
X-PUBLISHED-TTL:P3D
REFRESH-INTERVAL:P3D
CALSCALE:GREGORIAN
BEGIN:VEVENT
DTSTART:20210906T170000Z
DTEND:20210906T210000Z
X-MICROSOFT-CDO-ALLDAYEVENT:FALSE
SUMMARY:Labor Day
DESCRIPTION:The Chamber will be open for visitors.
X-ALT-DESC;FMTTYPE=text/html:The Chamber will be open for visitors.&nbsp\;
LOCATION:
UID:e.3533.141
SEQUENCE:3
DTSTAMP:20260422T161820Z
URL:https://business.borregospringschamber.com/events/details/labor-day-141
END:VEVENT

END:VCALENDAR
