BEGIN:VCALENDAR
VERSION:2.0
PRODID:-//ChamberMaster//Event Calendar 2.0//EN
METHOD:PUBLISH
X-PUBLISHED-TTL:P3D
REFRESH-INTERVAL:P3D
CALSCALE:GREGORIAN
BEGIN:VEVENT
DTSTART:20210806T170000Z
DTEND:20210808T230000Z
X-MICROSOFT-CDO-ALLDAYEVENT:FALSE
SUMMARY:GETTIN’ ALONG A photographic survey by Major Morris
DESCRIPTION:GETTIN' ALONG A photographic survey by Major Morris\n\nA collection of 42 documentary photographs by Major Morris. (1921-2016) His photos\, mostly taken in Boston and Philadelphia during the 1960s\, start with young children and take the viewer through older ages\, finally reaching the Poor Peoples March of 1968 in Washington\, D.C. But his emphasis is on the importance of nurturing children\, on education\, on encouraging a child to be the best that they can be. This fascinating exhibition is shown in our North Gallery till September 26th.
X-ALT-DESC;FMTTYPE=text/html:<strong><strong><span dir="auto"><span style="font-size:16px">GETTIN&rsquo\; ALONG A photographic survey by Major Morris</span></span></strong></strong><br />\nA collection of 42 documentary photographs by Major Morris. (1921-2016) His photos\, mostly taken in Boston and Philadelphia during the 1960s\, start with young children and take the viewer through older ages\, finally reaching the Poor Peoples March of 1968 in Washington\, D.C. But his emphasis is on the importance of nurturing children\, on education\, on encouraging a child to be the best that they can be. This fascinating exhibition is shown in our North Gallery till September 26th.
LOCATION:Gallery Borrego Art Institute 665 Palm Canyon Drive\, at Christmas Circle Borrego Springs\, CA 92004
UID:e.3533.131
SEQUENCE:3
DTSTAMP:20260422T183156Z
URL:https://business.borregospringschamber.com/events/details/gettin-along-a-photographic-survey-by-major-morris-05-08-2021-131
END:VEVENT

END:VCALENDAR
