BEGIN:VCALENDAR
VERSION:2.0
PRODID:-//ChamberMaster//Event Calendar 2.0//EN
METHOD:PUBLISH
X-PUBLISHED-TTL:P3D
REFRESH-INTERVAL:P3D
CALSCALE:GREGORIAN
BEGIN:VEVENT
DTSTART:20201023T150000Z
DTEND:20201023T190000Z
X-MICROSOFT-CDO-ALLDAYEVENT:FALSE
SUMMARY:Farmers Market at Christmas Circle
DESCRIPTION:BSCC Farmers Market
X-ALT-DESC;FMTTYPE=text/html:BSCC Farmers Market
LOCATION:
UID:e.3533.39
SEQUENCE:3
DTSTAMP:20260425T130245Z
URL:https://business.borregospringschamber.com/events/details/farmers-market-at-christmas-circle-39
END:VEVENT

END:VCALENDAR
