BEGIN:VCALENDAR
VERSION:2.0
PRODID:-//ChamberMaster//Event Calendar 2.0//EN
METHOD:PUBLISH
X-PUBLISHED-TTL:P3D
REFRESH-INTERVAL:P3D
CALSCALE:GREGORIAN
BEGIN:VEVENT
DTSTART:20200306T160000Z
DTEND:20200306T200000Z
X-MICROSOFT-CDO-ALLDAYEVENT:FALSE
SUMMARY:Farmers Market at Christmas Circle
DESCRIPTION:Farmers Market
X-ALT-DESC;FMTTYPE=text/html:Farmers Market
LOCATION:Christmas Circle - downtown Borrego Springs
UID:e.3533.23
SEQUENCE:3
DTSTAMP:20260425T205605Z
URL:https://business.borregospringschamber.com/events/details/farmers-market-at-christmas-circle-23
END:VEVENT

END:VCALENDAR
