BEGIN:VCALENDAR
VERSION:2.0
PRODID:-//ChamberMaster//Event Calendar 2.0//EN
METHOD:PUBLISH
X-PUBLISHED-TTL:P3D
REFRESH-INTERVAL:P3D
CALSCALE:GREGORIAN
BEGIN:VEVENT
DTSTART:20201030T150000Z
DTEND:20201030T190000Z
X-MICROSOFT-CDO-ALLDAYEVENT:FALSE
SUMMARY:Farmers Market
DESCRIPTION:Farmers Market at Christmas Circle Community Park
X-ALT-DESC;FMTTYPE=text/html:Farmers Market at Christmas Circle Community Park
LOCATION:
UID:e.3533.40
SEQUENCE:3
DTSTAMP:20260425T112956Z
URL:https://business.borregospringschamber.com/events/details/farmers-market-40
END:VEVENT

END:VCALENDAR
