BEGIN:VCALENDAR
VERSION:2.0
PRODID:-//ChamberMaster//Event Calendar 2.0//EN
METHOD:PUBLISH
X-PUBLISHED-TTL:P3D
REFRESH-INTERVAL:P3D
CALSCALE:GREGORIAN
BEGIN:VEVENT
DTSTART:20201120T160000Z
DTEND:20201120T200000Z
X-MICROSOFT-CDO-ALLDAYEVENT:FALSE
SUMMARY:Farmers Market
DESCRIPTION:Located at Christmas Circle on Palm Canyon Drive.
X-ALT-DESC;FMTTYPE=text/html:<span style="color: rgb(51\, 51\, 51)\; font-family: sans-serif\, Arial\, Verdana\, &quot\;Trebuchet MS&quot\;\; font-size: 13px\; background-color: rgb(255\, 255\, 255)\;">Located at Christmas Circle on Palm Canyon Drive.</span>
LOCATION:
UID:e.3533.44
SEQUENCE:3
DTSTAMP:20260425T113434Z
URL:https://business.borregospringschamber.com/events/details/farmers-market-11-20-2020-44
END:VEVENT

END:VCALENDAR
