BEGIN:VCALENDAR
VERSION:2.0
PRODID:-//ChamberMaster//Event Calendar 2.0//EN
METHOD:PUBLISH
X-PUBLISHED-TTL:P3D
REFRESH-INTERVAL:P3D
CALSCALE:GREGORIAN
BEGIN:VEVENT
DTSTART:20220505T233000Z
DTEND:20220506T013000Z
X-MICROSOFT-CDO-ALLDAYEVENT:FALSE
SUMMARY:Cinco De Mayo Sundowner/Mixer
DESCRIPTION:Mix and Mingle with Chamber Members\n\non Cinco De Mayo
X-ALT-DESC;FMTTYPE=text/html:Mix and Mingle with Chamber Members<br />\non Cinco De Mayo&nbsp\;
LOCATION:Rams Hill Golf Club\, Santa Rosa Room
UID:e.3533.291
SEQUENCE:3
DTSTAMP:20260423T103730Z
URL:https://business.borregospringschamber.com/events/details/cinco-de-mayo-sundowner-mixer-291
END:VEVENT

END:VCALENDAR
