BEGIN:VCALENDAR
VERSION:2.0
PRODID:-//ChamberMaster//Event Calendar 2.0//EN
METHOD:PUBLISH
X-PUBLISHED-TTL:P3D
REFRESH-INTERVAL:P3D
CALSCALE:GREGORIAN
BEGIN:VEVENT
DTSTART:20210823T170000Z
DTEND:20210827T210000Z
X-MICROSOFT-CDO-ALLDAYEVENT:FALSE
SUMMARY:Chamber Closed to Walk-ins
DESCRIPTION:The Chamber is closed to walk-ins\, phone messages and emails will be answered.
X-ALT-DESC;FMTTYPE=text/html:The Chamber is closed to walk-ins\, phone messages and emails will be answered.&nbsp\;
LOCATION:
UID:e.3533.138
SEQUENCE:3
DTSTAMP:20260422T200648Z
URL:https://business.borregospringschamber.com/events/details/chamber-closed-to-walk-ins-138
END:VEVENT

END:VCALENDAR
