BEGIN:VCALENDAR
VERSION:2.0
PRODID:-//ChamberMaster//Event Calendar 2.0//EN
METHOD:PUBLISH
X-PUBLISHED-TTL:P3D
REFRESH-INTERVAL:P3D
CALSCALE:GREGORIAN
BEGIN:VEVENT
DTSTART:20210809T170000Z
DTEND:20210813T210000Z
X-MICROSOFT-CDO-ALLDAYEVENT:FALSE
SUMMARY:Chamber Closed to Walk-ins
DESCRIPTION:The Chamber is closed to walk-ins\, phone messages and emails will be answered.
X-ALT-DESC;FMTTYPE=text/html:<span style="color: rgb(51\, 51\, 51)\; font-family: sans-serif\, Arial\, Verdana\, &quot\;Trebuchet MS&quot\;\; font-size: 13px\; background-color: rgb(255\, 255\, 255)\;">The Chamber is closed to walk-ins\, phone messages and emails will be answered.&nbsp\;</span>
LOCATION:
UID:e.3533.136
SEQUENCE:3
DTSTAMP:20260422T182559Z
URL:https://business.borregospringschamber.com/events/details/chamber-closed-to-walk-ins-136
END:VEVENT

END:VCALENDAR
