BEGIN:VCALENDAR
VERSION:2.0
PRODID:-//ChamberMaster//Event Calendar 2.0//EN
METHOD:PUBLISH
X-PUBLISHED-TTL:P3D
REFRESH-INTERVAL:P3D
CALSCALE:GREGORIAN
BEGIN:VEVENT
DTSTART:20210903T170000Z
DTEND:20210905T230000Z
X-MICROSOFT-CDO-ALLDAYEVENT:FALSE
SUMMARY:Celebrating the Summer Show
DESCRIPTION:Celebrating the Summer Show\n\nArt of all subject matter and mediums make up this diversified\, and enjoyable Summer Show. It is an exciting exhibition that will continuously rotate new entries to keep it fresh and worthy of a visit during the hot summer months.
X-ALT-DESC;FMTTYPE=text/html:<p><span style="font-size:18px"><strong>Celebrating the Summer Show</strong></span><br />\nArt of all subject matter and mediums make up this diversified\, and enjoyable Summer Show. It is an exciting exhibition that will continuously rotate new entries to keep it fresh and worthy of a visit during the hot summer months.</p>\n
LOCATION:Gallery Borrego Art Institute 665 Palm Canyon Drive\, at Christmas Circle Borrego Springs\, CA 92004
UID:e.3533.132
SEQUENCE:3
DTSTAMP:20260422T182723Z
URL:https://business.borregospringschamber.com/events/details/celebrating-the-summer-show-05-08-2021-132
END:VEVENT

END:VCALENDAR
