BEGIN:VCALENDAR
VERSION:2.0
PRODID:-//ChamberMaster//Event Calendar 2.0//EN
METHOD:PUBLISH
X-PUBLISHED-TTL:P3D
REFRESH-INTERVAL:P3D
CALSCALE:GREGORIAN
BEGIN:VEVENT
DTSTART;VALUE=DATE:20240304
DTEND;VALUE=DATE:20240309
TRANSP:TRANSPARENT
X-MICROSOFT-CDO-ALLDAYEVENT:TRUE
SUMMARY:Celebrate Plein Air at the Borrego Art Institute Invitational
DESCRIPTION:In its 18th year\, the Borrego Art Institute's Annual Plein Air Invitational promises another outstanding exhibition of plein air paintings focusing on the unique beauty and environmental significance of the Anza-Borrego Desert and the Borrego Valley. The exhibition will present a rich diversity of plein air paintings by a select group of 14 artists working in oils\, watercolor and pastels\, all producing work for the show during the week of March 4-9. Returning artists include Margaret Larlham\, Geoffrey Allen and Natasha Isenhour. New work will go up daily in the main gallery March 4-8\, and the gallery hours will be extended from 10 a.m.-7 p.m. The awards presentation and reception will be held Sat. March 9\, 3:00 p.m.-5:00 p.m. The show will be up through April 14. The Invitational will once again be curated by Kay Levie. Rick J. Delanty from San Clemente\, CA will return as the 2024 Juror of Awards.
X-ALT-DESC;FMTTYPE=text/html:In its 18th year\, the Borrego Art Institute&rsquo\;s Annual Plein Air Invitational promises another outstanding exhibition of plein air paintings focusing on the unique beauty and environmental significance of the Anza-Borrego Desert and the Borrego Valley. The exhibition will present a rich diversity of plein air paintings by a select group of 14 artists working in oils\, watercolor and pastels\, all producing work for the show during the week of March 4-9. Returning artists include Margaret Larlham\, Geoffrey Allen and Natasha Isenhour. New work will go up daily in the main gallery March 4-8\, and the gallery hours will be extended from 10 a.m.-7 p.m. The awards presentation and reception will be held Sat. March 9\, 3:00 p.m.-5:00 p.m. The show will be up through April 14. The Invitational will once again be curated by Kay Levie. Rick J. Delanty from San Clemente\, CA will return as the 2024 Juror of Awards.
LOCATION:Borrego Arts Institute 665 Palm Canyon Drive Borrego Springs\, CA 92004
UID:e.3533.818
SEQUENCE:3
DTSTAMP:20260426T043111Z
URL:https://business.borregospringschamber.com/events/details/celebrate-plein-air-at-the-borrego-art-institute-invitational-818
END:VEVENT

END:VCALENDAR
