BEGIN:VCALENDAR
VERSION:2.0
PRODID:-//ChamberMaster//Event Calendar 2.0//EN
METHOD:PUBLISH
X-PUBLISHED-TTL:P3D
REFRESH-INTERVAL:P3D
CALSCALE:GREGORIAN
BEGIN:VEVENT
DTSTART:20231201T160000Z
DTEND:20231201T200000Z
X-MICROSOFT-CDO-ALLDAYEVENT:FALSE
SUMMARY:BSCC Certified Farmers Market
DESCRIPTION:Stroll through rows of vendors featuring fresh produce\, seafood\, pastries\, breads\, spices\, clothing\, jewelry and so much more!
X-ALT-DESC;FMTTYPE=text/html:Stroll through rows of vendors featuring fresh produce\, seafood\, pastries\, breads\, spices\, clothing\, jewelry and so much more!&nbsp\;
LOCATION:Christmas Circle Community Park\, Palm Canyon Drive\, Borrego Springs
UID:e.3533.376
SEQUENCE:3
DTSTAMP:20260421T235341Z
URL:https://business.borregospringschamber.com/events/details/bscc-certified-farmers-market-376
END:VEVENT

END:VCALENDAR
