BEGIN:VCALENDAR
VERSION:2.0
PRODID:-//ChamberMaster//Event Calendar 2.0//EN
METHOD:PUBLISH
X-PUBLISHED-TTL:P3D
REFRESH-INTERVAL:P3D
CALSCALE:GREGORIAN
BEGIN:VEVENT
DTSTART:20211119T160000Z
DTEND:20211119T200000Z
X-MICROSOFT-CDO-ALLDAYEVENT:FALSE
SUMMARY:BSCC Certified Farmers Market
DESCRIPTION:Certified Farmers Market selling fresh produce\, pastries\, coffee\, tamales and offering an assortment of vendors.
X-ALT-DESC;FMTTYPE=text/html:Certified Farmers Market selling fresh produce\, pastries\, coffee\, tamales and offering an assortment of vendors.&nbsp\;
LOCATION:Christmas Circle Community Park on Palm Canyon Drive
UID:e.3533.150
SEQUENCE:3
DTSTAMP:20260422T124634Z
URL:https://business.borregospringschamber.com/events/details/bscc-certified-farmers-market-150
END:VEVENT

END:VCALENDAR
