BEGIN:VCALENDAR
VERSION:2.0
PRODID:-//ChamberMaster//Event Calendar 2.0//EN
METHOD:PUBLISH
X-PUBLISHED-TTL:P3D
REFRESH-INTERVAL:P3D
CALSCALE:GREGORIAN
BEGIN:VEVENT
DTSTART:20260130T160000Z
DTEND:20260130T200000Z
X-MICROSOFT-CDO-ALLDAYEVENT:FALSE
SUMMARY:BSCC Certified Farmers Market
DESCRIPTION:BSCC Certified Farmers Market Returns for the Season!
X-ALT-DESC;FMTTYPE=text/html:BSCC Certified Farmers Market Returns for the Season!<br>\n&nbsp\;
LOCATION:Christmas Circle Community Park
UID:e.3533.1209
SEQUENCE:3
DTSTAMP:20260419T153030Z
URL:https://business.borregospringschamber.com/events/details/bscc-certified-farmers-market-01-30-2026-1209
END:VEVENT

END:VCALENDAR
