BEGIN:VCALENDAR
VERSION:2.0
PRODID:-//ChamberMaster//Event Calendar 2.0//EN
METHOD:PUBLISH
X-PUBLISHED-TTL:P3D
REFRESH-INTERVAL:P3D
CALSCALE:GREGORIAN
BEGIN:VEVENT
DTSTART:20220313T160000Z
DTEND:20220313T230000Z
X-MICROSOFT-CDO-ALLDAYEVENT:FALSE
SUMMARY:BASIC Circle of Art in March
DESCRIPTION:The Circle of Art is BASIC's oldest major fundraising event. It began in 1989 & the first two Circle of Art events were held in conjunction with the Borrego Springs Grapefruit Festival.  In 1992 the first "Print of the Year" was produced and in 1993 the Circle of Art became a singular stand alone event drawing upon the beauty of the Anza-Borrego Desert in the Spring. Every year in March\, Borrego Springs is host to the Circle of Art at Christmas Circle Park in the heart of the village.   This fine arts show is FREE to the public and features approximately seventy artists.  All proceeds from the Circle of Art go towards BASIC's educational projects and scholarships for the residents of the Borrego Springs Community. For more information about BASIC's programs\, visit https://www.borregobasic.org/our-programs.html\n\n\n\nOrganizers select about 60-70 artists for the show each year\, exhibiting quality paintings and art works representing a variety of media including oil and watercolors\, photography\, sculpture\, ceramics\, pottery\, weaving and jewelry.
X-ALT-DESC;FMTTYPE=text/html:<p><span style="font-family:verdana"><big><span style="color:rgb(42\, 42\, 42)\; font-size:17px">The Circle of Art is BASIC&#39\;s oldest major fundraising event. It began in 1989 &amp\; the first two Circle of Art events were held in conjunction with the Borrego Springs Grapefruit Festival.&nbsp\; In 1992 the first &quot\;Print of the Year&quot\; was produced and in 1993 the Circle of Art became a singular stand alone event drawing upon the beauty of the Anza-Borrego Desert in the Spring.&nbsp\;Every year in March\, Borrego Springs is host to the Circle of Art at Christmas Circle Park in the heart of the village.&nbsp\; &nbsp\;This fine arts show is FREE to the public and features approximately&nbsp\;seventy artists.&nbsp\;&nbsp\;All proceeds from the Circle of Art go towards BASIC&#39\;s educational projects and scholarships for the residents of the Borrego Springs Community. For more information about BASIC&#39\;s programs\, visit&nbsp\;</span></big></span><a href="https://www.borregobasic.org/our-programs.html">https://www.borregobasic.org/our-programs.html</a><br />\n<br />\n<span style="font-family:verdana"><big><span style="color:rgb(42\, 42\, 42)\; font-size:17px">Organizers select about 60-70 artists&nbsp\;for the show each year\,&nbsp\;exhibiting quality paintings and art works representing a variety of media including oil and watercolors\, photography\, sculpture\, ceramics\, pottery\, weaving and jewelry.</span></big></span></p>\n
LOCATION:Christmas Circle\, Borrego Springs\, CA 92004
UID:e.3533.227
SEQUENCE:3
DTSTAMP:20260424T063330Z
URL:https://business.borregospringschamber.com/events/details/basic-circle-of-art-march-12-13-2022-227
END:VEVENT

END:VCALENDAR
