BEGIN:VCALENDAR
VERSION:2.0
PRODID:-//ChamberMaster//Event Calendar 2.0//EN
METHOD:PUBLISH
X-PUBLISHED-TTL:P3D
REFRESH-INTERVAL:P3D
CALSCALE:GREGORIAN
BEGIN:VEVENT
DTSTART:20220312T170000Z
DTEND:20220313T010000Z
X-MICROSOFT-CDO-ALLDAYEVENT:FALSE
SUMMARY:BASIC Circle of Art in March
DESCRIPTION:Every year in March\, Borrego Springs is host to BASIC's Circle of Art at Christmas Circle Park in the heart of the village.   This juried fine arts show and sale is FREE to the public and features approximately sixty artists.  Artists exhibit quality paintings and artworks representing a variety of media including oil and watercolors\, photography\, sculpture\, ceramics\, pottery\, weaving and jewelry. All proceeds from the Circle of Art go towards BASIC's educational projects and scholarships for the children and residents of the Borrego Springs Community. For more information about BASIC's programs\, visit https://www.borregobasic.org
X-ALT-DESC;FMTTYPE=text/html:<span style="background-color:rgb(255\, 255\, 255)\; color:rgb(42\, 42\, 42)\; font-family:cabin\; font-size:17px">Every year in March\, Borrego Springs is host to BASIC&#39\;s Circle of Art at Christmas Circle Park in the heart of the village.&nbsp\; &nbsp\;This juried fine arts show and sale is FREE to the public and features approximately&nbsp\;sixty artists.&nbsp\;&nbsp\;Artists exhibit quality paintings and artworks representing a variety of media including oil and watercolors\, photography\, sculpture\, ceramics\, pottery\, weaving and jewelry. All proceeds from the Circle of Art go towards BASIC&#39\;s educational projects and scholarships for the children and residents of the Borrego Springs Community. For more information about BASIC&#39\;s programs\, visit&nbsp\;<a href="https://www.borregobasic.org" target="_blank">https://www.borregobasic.org</a></span><br />\n<br />\n<br />\n&nbsp\;
LOCATION:Christmas Circle\, Borrego Springs\, CA 92004 In the Heart of the Anza-Borrego Desert!
UID:e.3533.179
SEQUENCE:3
DTSTAMP:20260424T045129Z
URL:https://business.borregospringschamber.com/events/details/basic-circle-of-art-march-12-13-2022-03-12-2022-179
END:VEVENT

END:VCALENDAR
