BEGIN:VCALENDAR
VERSION:2.0
PRODID:-//ChamberMaster//Event Calendar 2.0//EN
METHOD:PUBLISH
X-PUBLISHED-TTL:P3D
REFRESH-INTERVAL:P3D
CALSCALE:GREGORIAN
BEGIN:VEVENT
DTSTART:20210926T200000Z
DTEND:20210926T230000Z
X-MICROSOFT-CDO-ALLDAYEVENT:FALSE
SUMMARY:Art Talk with Major Morris's widow\, Anne-Grethe
DESCRIPTION:The exhibition of photography by Major Morris\, "Gettin Along"\, ends on September 27. On Sunday\, September 26\, Major's widow\, Anne-Grethe\, will be at the gallery from 1:00 to 4:00 to talk about Major's life and work and to meet with visitors. Please plan to attend the final hours of this dynamic show in our North Gallery space! FREE event.
X-ALT-DESC;FMTTYPE=text/html:<span dir="auto">The exhibition of photography by Major Morris\, &ldquo\;Gettin Along&rdquo\;\, ends on September 27. <strong>On Sunday\, September 26\, Major&rsquo\;s widow\, Anne-Grethe\, will be at the gallery from 1:00 to 4:00 to talk about Major&rsquo\;s life and work</strong> and to meet with visitors. Please plan to attend the final hours of this dynamic show in our North Gallery space!</span> <strong>FREE event.</strong>
LOCATION:Borrego Art Institute 665 Palm Canyon Drive (at Christmas Circle) Borrego Springs\, CA 92004
UID:e.3533.142
SEQUENCE:3
DTSTAMP:20260422T162420Z
URL:https://business.borregospringschamber.com/events/details/art-talk-with-major-morris-s-widow-anne-grethe-142
END:VEVENT

END:VCALENDAR
