BEGIN:VCALENDAR
VERSION:2.0
PRODID:-//ChamberMaster//Event Calendar 2.0//EN
METHOD:PUBLISH
X-PUBLISHED-TTL:P3D
REFRESH-INTERVAL:P3D
CALSCALE:GREGORIAN
BEGIN:VEVENT
DTSTART:20211103T000000Z
DTEND:20211103T030000Z
X-MICROSOFT-CDO-ALLDAYEVENT:FALSE
SUMMARY:Altares de Muertos (Day of the Dead) Celebration at BAI
DESCRIPTION:Altares de Muertos or Ofrendas (Day of the Dead) celebration on November 2nd in the Borrego Art Institute Art Gallery.\n\n\n\nThe Borrego Art Institute is hosting local families and their celebrations in the Gallery. The alters will be built and set up on Monday by the families. Come and help celebrate and view these beautiful created Ofrendas on Tuesday\, November 2\, from 5-8 pm. This event is open and free to the public.\n\n\n\n2 de Noviembre en la Galeria de 5-8pm.\n\nEl Instituto de Arte de Borrego estara hospedando familias locales y sus celebraciones en la galeria Ven ayuda a celebrar y ver estas hermosas Ofrendas creadas. Este evento es abierto y grautito para el publico.
X-ALT-DESC;FMTTYPE=text/html:<div>\n<div>\n<div>\n<div>\n<div>\n<div style="text-align:start"><span style="font-size:16px"><strong><span style="color:#FF8C00"><span dir="auto">Altares de Muertos or Ofrendas (Day of the Dead) celebration on November 2nd in the Borrego Art Institute Art Gallery.</span></span></strong></span></div>\n</div>\n\n<div>\n<div style="text-align:start"><span dir="auto">The Borrego Art Institute is hosting local families and their celebrations in the Gallery. The alters will be built and set up on Monday by the families. Come and help celebrate and view these beautiful created Ofrendas on Tuesday\, <strong>November 2\, from 5-8 pm</strong>. This event is open and free to the public.</span><br />\n<br />\n<strong>2 de Noviembre en la Galeria de 5-8pm.</strong><br />\nEl Instituto de Arte de Borrego estara hospedando familias locales y sus celebraciones en la galeria Ven ayuda a celebrar y ver estas hermosas Ofrendas creadas. Este evento es abierto y grautito para el publico.<br />\n&nbsp\;</div>\n</div>\n</div>\n</div>\n</div>\n</div>\n
LOCATION:Borrego Art Institute\, 665 Palm Canyon Drive\, at Christmas Circle\, Borrego Springs\, CA 92004
UID:e.3533.146
SEQUENCE:3
DTSTAMP:20260422T143135Z
URL:https://business.borregospringschamber.com/events/details/altares-de-muertos-day-of-the-dead-celebration-at-bai-146
END:VEVENT

END:VCALENDAR
