BEGIN:VCALENDAR
VERSION:2.0
PRODID:-//ChamberMaster//Event Calendar 2.0//EN
METHOD:PUBLISH
X-PUBLISHED-TTL:P3D
REFRESH-INTERVAL:P3D
CALSCALE:GREGORIAN
BEGIN:VEVENT
DTSTART:20211023T000000Z
DTEND:20211023T013000Z
X-MICROSOFT-CDO-ALLDAYEVENT:FALSE
SUMMARY:Akrofest - Aerobatics Show
DESCRIPTION:Happening at the Borrego Springs Airport.  Come early and meet the pilots and tour the planes.
X-ALT-DESC;FMTTYPE=text/html:Happening at the Borrego Springs Airport.&nbsp\; Come early and meet the pilots and tour the planes.&nbsp\;
LOCATION:
UID:e.3533.144
SEQUENCE:3
DTSTAMP:20260422T142748Z
URL:https://business.borregospringschamber.com/events/details/akrofest-aerobatics-show-144
END:VEVENT

END:VCALENDAR
