BEGIN:VCALENDAR
VERSION:2.0
PRODID:-//ChamberMaster//Event Calendar 2.0//EN
METHOD:PUBLISH
X-PUBLISHED-TTL:P3D
REFRESH-INTERVAL:P3D
CALSCALE:GREGORIAN
BEGIN:VEVENT
DTSTART;VALUE=DATE:20211007
DTEND;VALUE=DATE:20211008
TRANSP:TRANSPARENT
X-MICROSOFT-CDO-ALLDAYEVENT:TRUE
SUMMARY:6-12-24 WTTC
DESCRIPTION:World Time Trial Championships
X-ALT-DESC;FMTTYPE=text/html:World Time Trial Championships&nbsp\;
LOCATION:
UID:e.3533.124
SEQUENCE:3
DTSTAMP:20260422T142245Z
URL:https://business.borregospringschamber.com/events/details/6-12-24-wttc-124
END:VEVENT

END:VCALENDAR
