BEGIN:VCALENDAR
VERSION:2.0
PRODID:-//ChamberMaster//Event Calendar 2.0//EN
METHOD:PUBLISH
X-PUBLISHED-TTL:P3D
REFRESH-INTERVAL:P3D
CALSCALE:GREGORIAN
BEGIN:VEVENT
DTSTART:20211023T170000Z
DTEND:20211024T010000Z
X-MICROSOFT-CDO-ALLDAYEVENT:FALSE
SUMMARY:55th Annual Borrego Days Desert Festival
DESCRIPTION:October 23-24\, 2021\n\n55th Annual Borrego Days Desert Festival\n\nTheme - Welcome Back!\n\nAdmission: FREE\n\nLocation: Christmas Circle\, Palm Canyon Drive\, Borrego Springs\, CA 92004\n\nHours:  Sat 10 AM - 6 PM / Sun 10 AM - 3 PM\n\nInfo: BorregoDays.com | (760) 767-5555 | visitborrego@gmail.com\n\nAbout:  Includes live entertainment\, beer garden\,  car show\, children's area\, arts & crafts\, food sites\,  assorted vendors and more as the season kicks off in Borrego Springs with this family friendly event.
X-ALT-DESC;FMTTYPE=text/html:October 23-24\, 2021<br />\n55th Annual Borrego Days Desert Festival<br />\nTheme - Welcome Back!<br />\nAdmission: FREE<br />\nLocation: Christmas Circle\, Palm Canyon Drive\, Borrego Springs\, CA 92004<br />\nHours:&nbsp\; Sat 10 AM - 6 PM / Sun 10 AM - 3 PM<br />\nInfo: <a href="http://www.borregodays.com">BorregoDays.com</a> | (760) 767-5555 | <a href="mailto:visitborrego@gmail.com">visitborrego@gmail.com</a><br />\nAbout:&nbsp\; Includes live entertainment\, beer garden\, &nbsp\;car show\, children&#39\;s area\, arts &amp\; crafts\, food sites\,&nbsp\; assorted vendors and more as the season kicks off in Borrego Springs with this family friendly event.<br />\n&nbsp\;
LOCATION:
UID:e.3533.122
SEQUENCE:3
DTSTAMP:20260422T142956Z
URL:https://business.borregospringschamber.com/events/details/55th-annual-borrego-days-desert-festival-122
END:VEVENT

END:VCALENDAR
